BEGIN:VCALENDAR
VERSION:2.0
PRODID:-//hacksw/handcal//NONSGML v1.0//EN
BEGIN:VEVENT
SUMMARY:Ligue N3 2026
UID:e2d9f243-3de0-4e88-9cc2-d8e3ae7f9f75
DTSTART:20260424T220000Z
DTEND:20260426T220000Z
LOCATION:Localisation   
CATEGORIES:Sportif
STATUS:
URL;VALUE=URI:https://www.twirlinglagessienne.com/evenements/2026/04/25/ligue-n3-2026-2441465
END:VEVENT
END:VCALENDAR
