BEGIN:VCALENDAR
VERSION:2.0
PRODID:-//hacksw/handcal//NONSGML v1.0//EN
BEGIN:VEVENT
SUMMARY:1/2 Finale du Championnat de France N2
UID:dafedb9e-56f8-419d-a8ff-27ce0edda9eb
DTSTART:20260508T220000Z
DTEND:20260510T220000Z
LOCATION:Localisation   
CATEGORIES:Sportif
STATUS:
URL;VALUE=URI:https://www.twirlinglagessienne.com/evenements/2026/05/09/12-finale-du-championnat-de-france-n2-2441759
END:VEVENT
END:VCALENDAR
