BEGIN:VCALENDAR
VERSION:2.0
PRODID:-//hacksw/handcal//NONSGML v1.0//EN
BEGIN:VEVENT
SUMMARY:1/2 Finale du Championnat de France N3
UID:1d06c482-eb2d-4288-83ce-63084a234e17
DTSTART:20260529T220000Z
DTEND:20260531T220000Z
LOCATION:Localisation   
CATEGORIES:Sportif
STATUS:
URL;VALUE=URI:https://www.twirlinglagessienne.com/evenements/2026/05/30/12-finale-du-championnat-de-france-n3-2441760
END:VEVENT
END:VCALENDAR
