BEGIN:VCALENDAR
VERSION:2.0
PRODID:-//hacksw/handcal//NONSGML v1.0//EN
BEGIN:VEVENT
SUMMARY:Finale du Championnat de France N3
UID:568495cd-f84e-45f6-9e7c-c5d6edb5afd5
DTSTART:20260619T220000Z
DTEND:20260621T220000Z
LOCATION:Localisation   
CATEGORIES:Sportif
STATUS:
URL;VALUE=URI:https://www.twirlinglagessienne.com/evenements/2026/06/20/finale-du-championnat-de-france-n3-2441763
END:VEVENT
END:VCALENDAR
